View In:
ArcGIS JavaScript
ArcGIS Online Map Viewer
ArcGIS Earth
ArcMap
ArcGIS Pro
View Footprint In:
ArcGIS Online Map Viewer
Service Description: The Urban County Government has designated, with appropriate signs, approximately 82
miles of roadway as Snow Emergency Routes. These are roadways that have a high traffic volumeand/or shoulders that are inadequate to accommodate disabled vehicles.
Disabled or parked vehicles along these roadways can cause problems when snow plowing
is in progress.
During a snow emergency, the Division of Police can remove, or have removed, a vehicle
from an emergency route to facilitate traffic movement and snow-removal efforts. This may occur:
• When the vehicle is parked in an area declared a Stage 1, 2, or 3 Snow Emergency.
• When the vehicle is stalled or disabled on the normally traveled portion of any public
roadway and the owner is not attempting to remove the vehicle.
Vehicles are moved to an area designated by the Urban County Government. Car owners
can retrieve their cars by calling the Police reports desk at 258-3563. The Division of Traffic Engineering checks snow emergency route signs annually. Missing, damaged or unreadable signs are replaced.
Streets Designated as Snow Emergency Routes:
Alumni Dr
Avenue Of Champions
Beck Aly
Citation Blvd
Clays Mill Rd
Cooper Dr
E High St
E Main St
E Maxwell St
E Seventh St
E Short St
E Third St
E Vine St
Euclid Ave
Georgetown St
Harrodsburg Rd
Hays Blvd
Jefferson St
Leestown Rd
Man O War Blvd
Manchester St
Mason Headley Rd
Midland Ave
N Broadway
N Limestone
N Martin Luther King Blvd
N Upper St
Newtown Pike
Nicholasville Rd
Old Frankfort Pike
Oliver Lewis Way
Red Mile Rd
Richmond Rd
Rose St
S Broadway
S Forbes Rd
S Limestone
S Martin Luther King Blvd
S Upper St
Sir Barton Way
Tates Creek Rd
Versailles Rd
Virginia Ave
W High St
W Main St
W Maxwell St
W Second St
W Seventh St
W Short St
W Third St
W Vine St
Waller Ave
Winchester Rd
Winslow St
Map Name: Layers
Legend
All Layers and Tables
Layers:
Description:
Copyright Text: LFUCG
Spatial Reference:
102100
(3857)
LatestVCSWkid(0)
Single Fused Map Cache: true
Tile Info:
- Height: 256
- Width: 256
- DPI: 96
-
Levels of Detail: 24
-
Level ID: 0
[ Start Tile, End Tile ]
- Resolution: 156543.03392800014
- Scale: 5.91657527591555E8
-
Level ID: 1
[ Start Tile, End Tile ]
- Resolution: 78271.51696399994
- Scale: 2.95828763795777E8
-
Level ID: 2
[ Start Tile, End Tile ]
- Resolution: 39135.75848200009
- Scale: 1.47914381897889E8
-
Level ID: 3
[ Start Tile, End Tile ]
- Resolution: 19567.87924099992
- Scale: 7.3957190948944E7
-
Level ID: 4
[ Start Tile, End Tile ]
- Resolution: 9783.93962049996
- Scale: 3.6978595474472E7
-
Level ID: 5
[ Start Tile, End Tile ]
- Resolution: 4891.96981024998
- Scale: 1.8489297737236E7
- Format: PNG
- Compression Quality: 0.0
- Origin: X: -2.0037508342787E7
Y: 2.0037508342787E7
- Spatial Reference: 102100
(3857)
LatestVCSWkid(0)
Initial Extent:
XMin: -9533091.81599015
YMin: 4526400.218499585
XMax: -9273978.477903444
YMax: 4626062.625838953
Spatial Reference: 102100
(3857)
LatestVCSWkid(0)
Full Extent:
XMin: -9424149.42713032
YMin: 4557857.720820228
XMax: -9382826.196829678
YMax: 4608914.908380119
Spatial Reference: 102100
(3857)
LatestVCSWkid(0)
Units: esriMeters
Supported Image Format Types: PNG32,PNG24,PNG,JPG,DIB,TIFF,EMF,PS,PDF,GIF,SVG,SVGZ,BMP
Document Info:
Title:
Author:
Comments: The Urban County Government has designated, with appropriate signs, approximately 82
miles of roadway as Snow Emergency Routes. These are roadways that have a high traffic volumeand/or shoulders that are inadequate to accommodate disabled vehicles.
Disabled or parked vehicles along these roadways can cause problems when snow plowing
is in progress.
During a snow emergency, the Division of Police can remove, or have removed, a vehicle
from an emergency route to facilitate traffic movement and snow-removal efforts. This may occur:
• When the vehicle is parked in an area declared a Stage 1, 2, or 3 Snow Emergency.
• When the vehicle is stalled or disabled on the normally traveled portion of any public
roadway and the owner is not attempting to remove the vehicle.
Vehicles are moved to an area designated by the Urban County Government. Car owners
can retrieve their cars by calling the Police reports desk at 258-3563. The Division of Traffic Engineering checks snow emergency route signs annually. Missing, damaged or unreadable signs are replaced.
Streets Designated as Snow Emergency Routes:
Alumni Dr
Avenue Of Champions
Beck Aly
Citation Blvd
Clays Mill Rd
Cooper Dr
E High St
E Main St
E Maxwell St
E Seventh St
E Short St
E Third St
E Vine St
Euclid Ave
Georgetown St
Harrodsburg Rd
Hays Blvd
Jefferson St
Leestown Rd
Man O War Blvd
Manchester St
Mason Headley Rd
Midland Ave
N Broadway
N Limestone
N Martin Luther King Blvd
N Upper St
Newtown Pike
Nicholasville Rd
Old Frankfort Pike
Oliver Lewis Way
Red Mile Rd
Richmond Rd
Rose St
S Broadway
S Forbes Rd
S Limestone
S Martin Luther King Blvd
S Upper St
Sir Barton Way
Tates Creek Rd
Versailles Rd
Virginia Ave
W High St
W Main St
W Maxwell St
W Second St
W Seventh St
W Short St
W Third St
W Vine St
Waller Ave
Winchester Rd
Winslow St
Subject: LFUCG Snow Emergency Routes from the LFUCG Snow Plan.
Category:
Keywords: infrastructure,LFUCG,Snow,Streets
AntialiasingMode: None
TextAntialiasingMode: Force
Supports Dynamic Layers: false
MaxRecordCount: 1000
MaxImageHeight: 4096
MaxImageWidth: 4096
Supported Query Formats: JSON, geoJSON
Supports Query Data Elements:
Min Scale: 577790.554289
Max Scale: 2256.994353
Min LOD: 10
Max LOD: 18
Supports Datum Transformation: true
Child Resources:
Info
Supported Operations:
Export Map
Identify
QueryLegends
QueryDomains
Find
Return Updates