{
 "currentVersion": 10.91,
 "serviceDescription": "The Urban County Government has designated, with appropriate signs, approximately 82\nmiles of roadway as Snow Emergency Routes. These are roadways that have a high traffic volumeand/or shoulders that are inadequate to accommodate disabled vehicles.\nDisabled or parked vehicles along these roadways can cause problems when snow plowing\nis in progress.\n\nDuring a snow emergency, the Division of Police can remove, or have removed, a vehicle\nfrom an emergency route to facilitate traffic movement and snow-removal efforts. This may occur:\n\u2022 When the vehicle is parked in an area declared a Stage 1, 2, or 3 Snow Emergency.\n\u2022 When the vehicle is stalled or disabled on the normally traveled portion of any public\nroadway and the owner is not attempting to remove the vehicle.\n\nVehicles are moved to an area designated by the Urban County Government. Car owners\ncan retrieve their cars by calling the Police reports desk at 258-3563. The Division of Traffic Engineering checks snow emergency route signs annually. Missing, damaged or unreadable signs are replaced.\n\nStreets Designated as Snow Emergency Routes:\nAlumni Dr\nAvenue Of Champions\nBeck Aly\nCitation Blvd\nClays Mill Rd\nCooper Dr\nE High St\nE Main St\nE Maxwell St\nE Seventh St\nE Short St\nE Third St\nE Vine St\nEuclid Ave\nGeorgetown St\nHarrodsburg Rd\nHays Blvd\nJefferson St\nLeestown Rd\nMan O War Blvd\nManchester St\nMason Headley Rd\nMidland Ave\nN Broadway\nN Limestone\nN Martin Luther King Blvd\nN Upper St\nNewtown Pike\nNicholasville Rd\nOld Frankfort Pike\nOliver Lewis Way\nRed Mile Rd\nRichmond Rd\nRose St\nS Broadway\nS Forbes Rd\nS Limestone\nS Martin Luther King Blvd\nS Upper St\nSir Barton Way\nTates Creek Rd\nVersailles Rd\nVirginia Ave\nW High St\nW Main St\nW Maxwell St\nW Second St\nW Seventh St\nW Short St\nW Third St\nW Vine St\nWaller Ave\nWinchester Rd\nWinslow St",
 "mapName": "Layers",
 "description": "",
 "copyrightText": "LFUCG",
 "supportsDynamicLayers": false,
 "layers": [
  {
   "id": 0,
   "name": "288k",
   "parentLayerId": -1,
   "defaultVisibility": true,
   "subLayerIds": [
    1
   ],
   "minScale": 0,
   "maxScale": 144001,
   "type": "Group Layer"
  },
  {
   "id": 1,
   "name": "Snow Emergency Route",
   "parentLayerId": 0,
   "defaultVisibility": true,
   "subLayerIds": null,
   "minScale": 0,
   "maxScale": 144001,
   "type": "Feature Layer",
   "geometryType": "esriGeometryPolyline"
  },
  {
   "id": 2,
   "name": "144k",
   "parentLayerId": -1,
   "defaultVisibility": true,
   "subLayerIds": [
    3,
    4
   ],
   "minScale": 144000,
   "maxScale": 72001,
   "type": "Group Layer"
  },
  {
   "id": 3,
   "name": "Snow Emergency Route",
   "parentLayerId": 2,
   "defaultVisibility": true,
   "subLayerIds": null,
   "minScale": 144000,
   "maxScale": 72001,
   "type": "Feature Layer",
   "geometryType": "esriGeometryPolyline"
  },
  {
   "id": 4,
   "name": "Street",
   "parentLayerId": 2,
   "defaultVisibility": true,
   "subLayerIds": null,
   "minScale": 144000,
   "maxScale": 72001,
   "type": "Feature Layer",
   "geometryType": "esriGeometryPolyline"
  },
  {
   "id": 5,
   "name": "72k",
   "parentLayerId": -1,
   "defaultVisibility": true,
   "subLayerIds": [
    6,
    7
   ],
   "minScale": 72000,
   "maxScale": 36001,
   "type": "Group Layer"
  },
  {
   "id": 6,
   "name": "Snow Emergency Route",
   "parentLayerId": 5,
   "defaultVisibility": true,
   "subLayerIds": null,
   "minScale": 72000,
   "maxScale": 36001,
   "type": "Feature Layer",
   "geometryType": "esriGeometryPolyline"
  },
  {
   "id": 7,
   "name": "Street",
   "parentLayerId": 5,
   "defaultVisibility": true,
   "subLayerIds": null,
   "minScale": 72000,
   "maxScale": 36001,
   "type": "Feature Layer",
   "geometryType": "esriGeometryPolyline"
  },
  {
   "id": 8,
   "name": "36k",
   "parentLayerId": -1,
   "defaultVisibility": true,
   "subLayerIds": [
    9,
    10
   ],
   "minScale": 36000,
   "maxScale": 18001,
   "type": "Group Layer"
  },
  {
   "id": 9,
   "name": "Snow Emergency Route",
   "parentLayerId": 8,
   "defaultVisibility": true,
   "subLayerIds": null,
   "minScale": 36000,
   "maxScale": 18001,
   "type": "Feature Layer",
   "geometryType": "esriGeometryPolyline"
  },
  {
   "id": 10,
   "name": "Street",
   "parentLayerId": 8,
   "defaultVisibility": true,
   "subLayerIds": null,
   "minScale": 36000,
   "maxScale": 18001,
   "type": "Feature Layer",
   "geometryType": "esriGeometryPolyline"
  },
  {
   "id": 11,
   "name": "18k",
   "parentLayerId": -1,
   "defaultVisibility": true,
   "subLayerIds": [
    12,
    13
   ],
   "minScale": 18000,
   "maxScale": 9001,
   "type": "Group Layer"
  },
  {
   "id": 12,
   "name": "Snow Emergency Route",
   "parentLayerId": 11,
   "defaultVisibility": true,
   "subLayerIds": null,
   "minScale": 18000,
   "maxScale": 9001,
   "type": "Feature Layer",
   "geometryType": "esriGeometryPolyline"
  },
  {
   "id": 13,
   "name": "Street",
   "parentLayerId": 11,
   "defaultVisibility": true,
   "subLayerIds": null,
   "minScale": 18000,
   "maxScale": 9001,
   "type": "Feature Layer",
   "geometryType": "esriGeometryPolyline"
  },
  {
   "id": 14,
   "name": "9k",
   "parentLayerId": -1,
   "defaultVisibility": true,
   "subLayerIds": [
    15,
    16
   ],
   "minScale": 9000,
   "maxScale": 4501,
   "type": "Group Layer"
  },
  {
   "id": 15,
   "name": "Snow Emergency Route",
   "parentLayerId": 14,
   "defaultVisibility": true,
   "subLayerIds": null,
   "minScale": 9000,
   "maxScale": 4501,
   "type": "Feature Layer",
   "geometryType": "esriGeometryPolyline"
  },
  {
   "id": 16,
   "name": "Street",
   "parentLayerId": 14,
   "defaultVisibility": true,
   "subLayerIds": null,
   "minScale": 9000,
   "maxScale": 4501,
   "type": "Feature Layer",
   "geometryType": "esriGeometryPolyline"
  },
  {
   "id": 17,
   "name": "4.5k",
   "parentLayerId": -1,
   "defaultVisibility": true,
   "subLayerIds": [
    18,
    19
   ],
   "minScale": 4500,
   "maxScale": 2001,
   "type": "Group Layer"
  },
  {
   "id": 18,
   "name": "Snow Emergency Route",
   "parentLayerId": 17,
   "defaultVisibility": true,
   "subLayerIds": null,
   "minScale": 4500,
   "maxScale": 2001,
   "type": "Feature Layer",
   "geometryType": "esriGeometryPolyline"
  },
  {
   "id": 19,
   "name": "Street",
   "parentLayerId": 17,
   "defaultVisibility": true,
   "subLayerIds": null,
   "minScale": 4500,
   "maxScale": 2001,
   "type": "Feature Layer",
   "geometryType": "esriGeometryPolyline"
  }
 ],
 "tables": [],
 "spatialReference": {
  "wkid": 102100,
  "latestWkid": 3857
 },
 "singleFusedMapCache": true,
 "tileInfo": {
  "rows": 256,
  "cols": 256,
  "dpi": 96,
  "format": "PNG",
  "compressionQuality": 0,
  "origin": {
   "x": -2.0037508342787E7,
   "y": 2.0037508342787E7
  },
  "spatialReference": {
   "wkid": 102100,
   "latestWkid": 3857
  },
  "lods": [
   {
    "level": 0,
    "resolution": 156543.03392800014,
    "scale": 5.91657527591555E8
   },
   {
    "level": 1,
    "resolution": 78271.51696399994,
    "scale": 2.95828763795777E8
   },
   {
    "level": 2,
    "resolution": 39135.75848200009,
    "scale": 1.47914381897889E8
   },
   {
    "level": 3,
    "resolution": 19567.87924099992,
    "scale": 7.3957190948944E7
   },
   {
    "level": 4,
    "resolution": 9783.93962049996,
    "scale": 3.6978595474472E7
   },
   {
    "level": 5,
    "resolution": 4891.96981024998,
    "scale": 1.8489297737236E7
   },
   {
    "level": 6,
    "resolution": 2445.98490512499,
    "scale": 9244648.868618
   },
   {
    "level": 7,
    "resolution": 1222.992452562495,
    "scale": 4622324.434309
   },
   {
    "level": 8,
    "resolution": 611.4962262813797,
    "scale": 2311162.217155
   },
   {
    "level": 9,
    "resolution": 305.74811314055756,
    "scale": 1155581.108577
   },
   {
    "level": 10,
    "resolution": 152.87405657041106,
    "scale": 577790.554289
   },
   {
    "level": 11,
    "resolution": 76.43702828507324,
    "scale": 288895.277144
   },
   {
    "level": 12,
    "resolution": 38.21851414253662,
    "scale": 144447.638572
   },
   {
    "level": 13,
    "resolution": 19.10925707126831,
    "scale": 72223.819286
   },
   {
    "level": 14,
    "resolution": 9.554628535634155,
    "scale": 36111.909643
   },
   {
    "level": 15,
    "resolution": 4.77731426794937,
    "scale": 18055.954822
   },
   {
    "level": 16,
    "resolution": 2.388657133974685,
    "scale": 9027.977411
   },
   {
    "level": 17,
    "resolution": 1.1943285668550503,
    "scale": 4513.988705
   },
   {
    "level": 18,
    "resolution": 0.5971642835598172,
    "scale": 2256.994353
   },
   {
    "level": 19,
    "resolution": 0.29858214164761665,
    "scale": 1128.497176
   },
   {
    "level": 20,
    "resolution": 0.14929107082380833,
    "scale": 564.248588
   },
   {
    "level": 21,
    "resolution": 0.07464553541190416,
    "scale": 282.124294
   },
   {
    "level": 22,
    "resolution": 0.03732276770595208,
    "scale": 141.062147
   },
   {
    "level": 23,
    "resolution": 0.01866138385297604,
    "scale": 70.5310735
   }
  ]
 },
 "initialExtent": {
  "xmin": -9533091.81599015,
  "ymin": 4526400.218499585,
  "xmax": -9273978.477903444,
  "ymax": 4626062.625838953,
  "spatialReference": {
   "wkid": 102100,
   "latestWkid": 3857
  }
 },
 "fullExtent": {
  "xmin": -9424149.42713032,
  "ymin": 4557857.720820228,
  "xmax": -9382826.196829678,
  "ymax": 4608914.908380119,
  "spatialReference": {
   "wkid": 102100,
   "latestWkid": 3857
  }
 },
 "minScale": 577790.554289,
 "maxScale": 2256.994353,
 "minLOD": 10,
 "maxLOD": 18,
 "units": "esriMeters",
 "supportedImageFormatTypes": "PNG32,PNG24,PNG,JPG,DIB,TIFF,EMF,PS,PDF,GIF,SVG,SVGZ,BMP",
 "documentInfo": {
  "Title": "",
  "Author": "",
  "Comments": "The Urban County Government has designated, with appropriate signs, approximately 82\nmiles of roadway as Snow Emergency Routes. These are roadways that have a high traffic volumeand/or shoulders that are inadequate to accommodate disabled vehicles.\nDisabled or parked vehicles along these roadways can cause problems when snow plowing\nis in progress.\n\nDuring a snow emergency, the Division of Police can remove, or have removed, a vehicle\nfrom an emergency route to facilitate traffic movement and snow-removal efforts. This may occur:\n\u2022 When the vehicle is parked in an area declared a Stage 1, 2, or 3 Snow Emergency.\n\u2022 When the vehicle is stalled or disabled on the normally traveled portion of any public\nroadway and the owner is not attempting to remove the vehicle.\n\nVehicles are moved to an area designated by the Urban County Government. Car owners\ncan retrieve their cars by calling the Police reports desk at 258-3563. The Division of Traffic Engineering checks snow emergency route signs annually. Missing, damaged or unreadable signs are replaced.\n\nStreets Designated as Snow Emergency Routes:\nAlumni Dr\nAvenue Of Champions\nBeck Aly\nCitation Blvd\nClays Mill Rd\nCooper Dr\nE High St\nE Main St\nE Maxwell St\nE Seventh St\nE Short St\nE Third St\nE Vine St\nEuclid Ave\nGeorgetown St\nHarrodsburg Rd\nHays Blvd\nJefferson St\nLeestown Rd\nMan O War Blvd\nManchester St\nMason Headley Rd\nMidland Ave\nN Broadway\nN Limestone\nN Martin Luther King Blvd\nN Upper St\nNewtown Pike\nNicholasville Rd\nOld Frankfort Pike\nOliver Lewis Way\nRed Mile Rd\nRichmond Rd\nRose St\nS Broadway\nS Forbes Rd\nS Limestone\nS Martin Luther King Blvd\nS Upper St\nSir Barton Way\nTates Creek Rd\nVersailles Rd\nVirginia Ave\nW High St\nW Main St\nW Maxwell St\nW Second St\nW Seventh St\nW Short St\nW Third St\nW Vine St\nWaller Ave\nWinchester Rd\nWinslow St",
  "Subject": "LFUCG Snow Emergency Routes from the LFUCG Snow Plan.",
  "Category": "",
  "AntialiasingMode": "None",
  "TextAntialiasingMode": "Force",
  "Keywords": "infrastructure,LFUCG,Snow,Streets"
 },
 "capabilities": "Data,Map,Query",
 "supportedQueryFormats": "JSON, geoJSON",
 "hasVersionedData": true,
 "exportTilesAllowed": false,
 "referenceScale": 0,
 "datumTransformations": [
  {
   "geoTransforms": [
    {
     "wkid": 108190,
     "latestWkid": 108190,
     "transformForward": false,
     "name": "WGS_1984_(ITRF00)_To_NAD_1983"
    }
   ]
  },
  {
   "geoTransforms": [
    {
     "wkid": 108190,
     "latestWkid": 108190,
     "transformForward": true,
     "name": "WGS_1984_(ITRF00)_To_NAD_1983"
    }
   ]
  }
 ],
 "supportsDatumTransformation": true,
 "maxRecordCount": 1000,
 "maxImageHeight": 4096,
 "maxImageWidth": 4096,
 "supportedExtensions": ""
}
